BEGIN:VCALENDAR
VERSION:2.0
PRODID:-//Village of Waterville - ECPv6.15.20//NONSGML v1.0//EN
CALSCALE:GREGORIAN
METHOD:PUBLISH
X-WR-CALNAME:Village of Waterville
X-ORIGINAL-URL:https://www.villageofwaterville.gov
X-WR-CALDESC:Events for Village of Waterville
REFRESH-INTERVAL;VALUE=DURATION:PT1H
X-Robots-Tag:noindex
X-PUBLISHED-TTL:PT1H
BEGIN:VTIMEZONE
TZID:UTC
BEGIN:STANDARD
TZOFFSETFROM:+0000
TZOFFSETTO:+0000
TZNAME:UTC
DTSTART:20240101T000000
END:STANDARD
END:VTIMEZONE
BEGIN:VEVENT
DTSTART;TZID=UTC:20250716T180000
DTEND;TZID=UTC:20250716T200000
DTSTAMP:20260423T035131
CREATED:20250424T140708Z
LAST-MODIFIED:20250702T131738Z
UID:10001123-1752688800-1752696000@www.villageofwaterville.gov
SUMMARY:Concert in the Park
DESCRIPTION:The Tweedlers  6pm-8pm \nRain Cancellations will be posted on the Village Facebook page
URL:https://villageofwaterville.gov/event/concert-in-the-park-2/
LOCATION:Bandstand Park
CATEGORIES:Events
END:VEVENT
END:VCALENDAR