BEGIN:VCALENDAR
VERSION:2.0
PRODID:-//Village of Waterville - ECPv6.15.20//NONSGML v1.0//EN
CALSCALE:GREGORIAN
METHOD:PUBLISH
X-WR-CALNAME:Village of Waterville
X-ORIGINAL-URL:https://www.villageofwaterville.gov
X-WR-CALDESC:Events for Village of Waterville
REFRESH-INTERVAL;VALUE=DURATION:PT1H
X-Robots-Tag:noindex
X-PUBLISHED-TTL:PT1H
BEGIN:VTIMEZONE
TZID:UTC
BEGIN:STANDARD
TZOFFSETFROM:+0000
TZOFFSETTO:+0000
TZNAME:UTC
DTSTART:20240101T000000
END:STANDARD
END:VTIMEZONE
BEGIN:VEVENT
DTSTART;VALUE=DATE:20250730
DTEND;VALUE=DATE:20250731
DTSTAMP:20260422T050754
CREATED:20250424T141116Z
LAST-MODIFIED:20250424T141119Z
UID:10001127-1753833600-1753919999@www.villageofwaterville.gov
SUMMARY:Utility Bills Due
DESCRIPTION:
URL:https://villageofwaterville.gov/event/utility-bills-due-5/
LOCATION:NY
END:VEVENT
BEGIN:VEVENT
DTSTART;TZID=UTC:20250730T180000
DTEND;TZID=UTC:20250730T200000
DTSTAMP:20260422T050754
CREATED:20250424T141030Z
LAST-MODIFIED:20250702T131705Z
UID:10001126-1753898400-1753905600@www.villageofwaterville.gov
SUMMARY:Concert in the Park
DESCRIPTION:Rainbow Spiral  6pm-8pm \nRain Cancellations will be posted on the Village Facebook page
URL:https://villageofwaterville.gov/event/concert-in-the-park-4/
LOCATION:Bandstand Park
CATEGORIES:Events
END:VEVENT
END:VCALENDAR