BEGIN:VCALENDAR
VERSION:2.0
PRODID:-//Village of Waterville - ECPv6.15.20//NONSGML v1.0//EN
CALSCALE:GREGORIAN
METHOD:PUBLISH
X-WR-CALNAME:Village of Waterville
X-ORIGINAL-URL:https://www.villageofwaterville.gov
X-WR-CALDESC:Events for Village of Waterville
REFRESH-INTERVAL;VALUE=DURATION:PT1H
X-Robots-Tag:noindex
X-PUBLISHED-TTL:PT1H
BEGIN:VTIMEZONE
TZID:UTC
BEGIN:STANDARD
TZOFFSETFROM:+0000
TZOFFSETTO:+0000
TZNAME:UTC
DTSTART:20240101T000000
END:STANDARD
END:VTIMEZONE
BEGIN:VEVENT
DTSTART;TZID=UTC:20250801T083000
DTEND;TZID=UTC:20250801T133000
DTSTAMP:20260422T014519
CREATED:20250801T161909Z
LAST-MODIFIED:20250801T161909Z
UID:10001152-1754037000-1754055000@www.villageofwaterville.gov
SUMMARY:Red Cross Blood Drive
DESCRIPTION:To schedule an appointment\, go to redcrossblood.org or call 1-800-RED-CROSS
URL:https://villageofwaterville.gov/event/red-cross-blood-drive-3/
LOCATION:NY
CATEGORIES:Events
END:VEVENT
END:VCALENDAR