BEGIN:VCALENDAR
VERSION:2.0
PRODID:-//Village of Waterville - ECPv6.15.20//NONSGML v1.0//EN
CALSCALE:GREGORIAN
METHOD:PUBLISH
X-WR-CALNAME:Village of Waterville
X-ORIGINAL-URL:https://www.villageofwaterville.gov
X-WR-CALDESC:Events for Village of Waterville
REFRESH-INTERVAL;VALUE=DURATION:PT1H
X-Robots-Tag:noindex
X-PUBLISHED-TTL:PT1H
BEGIN:VTIMEZONE
TZID:UTC
BEGIN:STANDARD
TZOFFSETFROM:+0000
TZOFFSETTO:+0000
TZNAME:UTC
DTSTART:20240101T000000
END:STANDARD
END:VTIMEZONE
BEGIN:VEVENT
DTSTART;VALUE=DATE:20250813
DTEND;VALUE=DATE:20250814
DTSTAMP:20260421T064947
CREATED:20250801T160622Z
LAST-MODIFIED:20250801T160622Z
UID:10001136-1755043200-1755129599@www.villageofwaterville.gov
SUMMARY:Recycling Pick Up
DESCRIPTION:
URL:https://villageofwaterville.gov/event/recycling-pick-up-9/
LOCATION:NY
CATEGORIES:DPW
END:VEVENT
BEGIN:VEVENT
DTSTART;TZID=UTC:20250813T180000
DTEND;TZID=UTC:20250813T200000
DTSTAMP:20260421T064947
CREATED:20250801T160551Z
LAST-MODIFIED:20250801T160551Z
UID:10001135-1755108000-1755115200@www.villageofwaterville.gov
SUMMARY:Concert in the Park - Stage Road
DESCRIPTION:
URL:https://villageofwaterville.gov/event/concert-in-the-park-stage-road/
LOCATION:Bandstand Park
END:VEVENT
END:VCALENDAR